BEGIN:VCALENDAR
CALSCALE:GREGORIAN
VERSION:2.0
PRODID:-//Elixir ICalendar//Mobilizon 5.2.2//EN
BEGIN:VEVENT
ATTACH;FMTTYPE=image/png:https://mobilize.adminforge.de/media/85a18fc0ee449f3e76ac04aafaf2207e9f0b517d15c232f64a253edc87ecf879.png?name=Logo_DIDay.png
CATEGORIES:DIDit,DUTgemacht
DESCRIPTION:Der Wechsel ist nur der erste Schritt: Erzähl' anderen davon! Nutze gern die Social-Media-Vorlagen\, die Florian Biege illustriert hat. Einfach herunterladen und mit dem Hashtag #DIDit oder #DUTgemacht posten.\n\nHier gibt es zudem einen Generator\, mit dem Du eigene DID-Posts erstellen kannst (Danke\, Andreas!)\n\nhttps://di.day/sprichdrueber/\n\n
DTEND:20261205T230000Z
DTSTAMP:20260421T074147Z
DTSTART:20260131T230000Z
ORGANIZER:Neuss #DIDit
STATUS:CONFIRMED
SUMMARY:Erzähl' anderen von Deinem Wechsel!
UID:fff0f427-6b01-4c68-bbce-5886147d342b
URL:https://mobilize.adminforge.de/events/fff0f427-6b01-4c68-bbce-5886147d342b
END:VEVENT
END:VCALENDAR
